BEGIN:VCALENDAR
VERSION:2.0
METHOD:PUBLISH
BEGIN:VEVENT
UID:WILD_APRICOT_EVENT_3532539_SESSION_1
DTSTART:20200320T110000Z
DTEND:20200322T110000Z
SUMMARY:National Conference 2020 | Gifted Wellbeing
LOCATION:Christchurch
DESCRIPTION:https://www.giftedchildren.org.nz/event-3532539\n\n\n\n
DTSTAMP:20191219T164532Z
END:VEVENT
END:VCALENDAR
